BEGIN:VCALENDAR
VERSION:2.0
CALSCALE:GREGORIAN
PRODID:-//Diputació de Barcelona//DibaCMS//EN
BEGIN:VEVENT
UID:868
DTSTAMP:20260420T111746
DTSTART:20181104T100000
DTEND:20181104T140000
SUMMARY:Construïm caixes niu per als ocells
LOCATION:08580 Sant Quirze de Besora
METHOD:PUBLISH
X-WR-CALNAME:info@ajsantquirze.cat
X-WR-TIMEZONE:Europe/Madrid
DESCRIPTION:
URI:https://www.ajsantquirze.cat/actualitat/agenda/construim-caixes-niu-per-als-ocells.html
CLASS:PUBLIC
END:VEVENT
END:VCALENDAR
