BEGIN:VCALENDAR
VERSION:2.0
CALSCALE:GREGORIAN
PRODID:-//Diputació de Barcelona//DibaCMS//EN
BEGIN:VEVENT
UID:3018
DTSTAMP:20260424T174952
DTSTART:20260430T180000
DTEND:20260430T200000
SUMMARY:Sessió informativa sobre el procés de regularització extraordinària 2026
LOCATION:Crta. Berga, Grup C 08580 Sant Quirze de Besora
METHOD:PUBLISH
X-WR-CALNAME:info@ajsantquirze.cat
X-WR-TIMEZONE:Europe/Madrid
DESCRIPTION:Amb l’objectiu d’informar la població i resoldre dubtes sobre aquest procés, el Servei d’Acollida i Integració del Consell Comarcal d’Osona, en col·laboració amb l’Ajuntament de Sant Quirze de Besora, organitza una sessió informativa oberta a tota la ciutadania.

Durant la sessió s’explicaran els requisits, el procediment per presentar la sol·licitud i altres aspectes clau del procés de regularització extraordinària.

URI:https://www.ajsantquirze.cat/actualitat/agenda/sessio-informativa-sobre-el-proces-de-regularitzacio-extraordinaria-2026.html
CLASS:PUBLIC
END:VEVENT
END:VCALENDAR
