BEGIN:VCALENDAR
VERSION:2.0
CALSCALE:GREGORIAN
PRODID:-//Diputació de Barcelona//DibaCMS//EN
BEGIN:VEVENT
UID:3003
DTSTAMP:20260424T104949
DTSTART:20260516T100000
DTEND:20260516T110000
SUMMARY:Activitats del Castell de Montesquiu: Papallones Diürnes
LOCATION:Aparcament del Parc del Castell de Montesquiu 
METHOD:PUBLISH
X-WR-CALNAME:info@ajsantquirze.cat
X-WR-TIMEZONE:Europe/Madrid
DESCRIPTION:Recorrerem el bosc i les pastures del Parc a la cerca de papallones per conèixer les espècies que podem torbar i aprendre a identificar-les.

URI:https://www.ajsantquirze.cat/actualitat/agenda/activitats-del-castell-de-montesquiu-papallones-diurnes.html
CLASS:PUBLIC
END:VEVENT
END:VCALENDAR
