BEGIN:VCALENDAR
VERSION:2.0
CALSCALE:GREGORIAN
PRODID:-//Diputació de Barcelona//DibaCMS//EN
BEGIN:VEVENT
UID:3002
DTSTAMP:20260424T175327
DTSTART:20260510T084500
DTEND:20260510T094500
SUMMARY:Activitats del Castell de Montesquiu: Ruta Guiada - De Sora al castell de Duocastella
LOCATION:Sora (aparcament de l'entrada del poble) 
METHOD:PUBLISH
X-WR-CALNAME:info@ajsantquirze.cat
X-WR-TIMEZONE:Europe/Madrid
DESCRIPTION:Boscos, rieres i torrents envolten el nucli de Sora. Arribarem a les restes del castell de Boixader, des d’on tindrem una bona panoràmica del Bisaura. 

URI:https://www.ajsantquirze.cat/actualitat/agenda/activitats-del-castell-de-montesquiu-ruta-guiada-de-sora-al-castell-de-duocastella.html
CLASS:PUBLIC
END:VEVENT
END:VCALENDAR
