BEGIN:VCALENDAR
VERSION:2.0
CALSCALE:GREGORIAN
PRODID:-//Diputació de Barcelona//DibaCMS//EN
BEGIN:VEVENT
UID:3001
DTSTAMP:20260424T174653
DTSTART:20260509T110000
DTEND:20260509T120000
SUMMARY:Activitats del Castell de Montesquiu: La memòria del fang
LOCATION:Espai de l'Art la Cabanya del Castell 
METHOD:PUBLISH
X-WR-CALNAME:info@ajsantquirze.cat
X-WR-TIMEZONE:Europe/Madrid
DESCRIPTION:Amb l’artista Jan Madrenas explorarem la plasticitat del fang en relació amb l’entorn. Cercarem diferents textures als jardins del castell i en farem transferències i registres.

URI:https://www.ajsantquirze.cat/actualitat/agenda/activitats-del-castell-de-montesquiu-la-memoria-del-fang.html
CLASS:PUBLIC
END:VEVENT
END:VCALENDAR
