BEGIN:VCALENDAR
VERSION:2.0
CALSCALE:GREGORIAN
PRODID:-//Diputació de Barcelona//DibaCMS//EN
BEGIN:VEVENT
UID:3000
DTSTAMP:20260424T074320
DTSTART:20260426T070000
DTEND:20260426T140000
SUMMARY:Sortida del CES per l'Esquirol
LOCATION:Punt de sortida a la Plaça Bisaura 
METHOD:PUBLISH
X-WR-CALNAME:info@ajsantquirze.cat
X-WR-TIMEZONE:Europe/Madrid
DESCRIPTION:Vine a la sortida matinal del Club Excursionista de Sant Quirze. 

URI:https://www.ajsantquirze.cat/actualitat/agenda/sortida-del-ces-per-lesquirol.html
CLASS:PUBLIC
END:VEVENT
END:VCALENDAR
