BEGIN:VCALENDAR
VERSION:2.0
CALSCALE:GREGORIAN
PRODID:-//Diputació de Barcelona//DibaCMS//EN
BEGIN:VEVENT
UID:2931
DTSTAMP:20260422T203626
DTSTART:20260611T180000
DTEND:20260611T200000
SUMMARY:Xerrada Sòl Pèlvic amb la Mireia Grossman
LOCATION:Carrer de Joan Baptista Espadaler 6 08580 Sant Quirze de Besora
METHOD:PUBLISH
X-WR-CALNAME:info@ajsantquirze.cat
X-WR-TIMEZONE:Europe/Madrid
DESCRIPTION:
URI:https://www.ajsantquirze.cat/actualitat/agenda/xerrada-sol-pelvic-amb-la-mireia-grossman.html
CLASS:PUBLIC
END:VEVENT
END:VCALENDAR
