BEGIN:VCALENDAR
VERSION:2.0
CALSCALE:GREGORIAN
PRODID:-//Diputació de Barcelona//DibaCMS//EN
BEGIN:VEVENT
UID:2924
DTSTAMP:20260424T105756
DTSTART:20260728T190000
DTEND:20260728T200000
SUMMARY:Ple Municipal
LOCATION:Ajuntament 
METHOD:PUBLISH
X-WR-CALNAME:info@ajsantquirze.cat
X-WR-TIMEZONE:Europe/Madrid
DESCRIPTION:
URI:https://www.ajsantquirze.cat/actualitat/agenda/2924-ple-municipal.html
CLASS:PUBLIC
END:VEVENT
END:VCALENDAR
