BEGIN:VCALENDAR
VERSION:2.0
CALSCALE:GREGORIAN
PRODID:-//Diputació de Barcelona//DibaCMS//EN
BEGIN:VEVENT
UID:2917
DTSTAMP:20260424T111052
DTSTART:20260515T083000
DTEND:20260515T130000
SUMMARY:Unitat Mòbil - Revisions ITV
LOCATION:Sant Quirze de Besora  
METHOD:PUBLISH
X-WR-CALNAME:info@ajsantquirze.cat
X-WR-TIMEZONE:Europe/Madrid
DESCRIPTION:La Unitat Mòbil efectuarà les revisions ITV a Sant Quirze de Besora el dia 15 de Maig 2026.
 

URI:https://www.ajsantquirze.cat/actualitat/agenda/2917-unitat-mobil-revisions-itv.html
CLASS:PUBLIC
END:VEVENT
END:VCALENDAR
