BEGIN:VCALENDAR
VERSION:2.0
CALSCALE:GREGORIAN
PRODID:-//Diputació de Barcelona//DibaCMS//EN
BEGIN:VEVENT
UID:2894
DTSTAMP:20260426T030958
DTSTART:20260213T163000
DTEND:20260213T183000
SUMMARY:Carnestoltes de NICAS!
LOCATION:Mestre Quer, 20 08580 Sant Quirze de Besora
METHOD:PUBLISH
X-WR-CALNAME:info@ajsantquirze.cat
X-WR-TIMEZONE:Europe/Madrid
DESCRIPTION:L’AFA de l'escola Segimon Comas us convida a participar d’un CARNESTOLTES DE NICAS. I així per quart any consecutiu, l’associació organitza una festa solidària que, enguany, servirà per recaptar fons per a les famílies que atén l’Hospital Sant Joan de Déu (els diners es destinaran a la investigació de les malalties rares). La recaptació íntegra de l’activitat es destinarà a aquesta entitat.


L'acte compta amb la col·laboració de l'escola Segimon Comas i l'ajuntament. 

URI:https://www.ajsantquirze.cat/actualitat/agenda/carnestoltes-de-nicas.html
CLASS:PUBLIC
END:VEVENT
END:VCALENDAR
