BEGIN:VCALENDAR
VERSION:2.0
CALSCALE:GREGORIAN
PRODID:-//Diputació de Barcelona//DibaCMS//EN
BEGIN:VEVENT
UID:2892
DTSTAMP:20260426T030421
DTSTART:20260224T000000
DTEND:20260225T000000
SUMMARY:Jornades Càpsula 2026
LOCATION:
METHOD:PUBLISH
X-WR-CALNAME:info@ajsantquirze.cat
X-WR-TIMEZONE:Europe/Madrid
DESCRIPTION:Orientació acadèmica i professional destinades a estudiants de 4t d'ESO, Batxillerat, Cicles Formatius, Programes de Formació i Inserció i dels programes de formacions alternatives i noves oportunitats de la comarca d'Osona.

URI:https://www.ajsantquirze.cat/actualitat/agenda/jornades-capsula-2026.html
CLASS:PUBLIC
END:VEVENT
END:VCALENDAR
