BEGIN:VCALENDAR
VERSION:2.0
CALSCALE:GREGORIAN
PRODID:-//Diputació de Barcelona//DibaCMS//EN
BEGIN:VEVENT
UID:2832
DTSTAMP:20260422T145437
DTSTART:20251129T160000
DTEND:20251129T180000
SUMMARY:Acte 25N: Taller de ceràmica
LOCATION:Carrer de Joan Baptista Espadaler 6 08580 Sant Quirze de Besora
METHOD:PUBLISH
X-WR-CALNAME:info@ajsantquirze.cat
X-WR-TIMEZONE:Europe/Madrid
DESCRIPTION:Taller de ceràmica. Places limitades. 

URI:https://www.ajsantquirze.cat/actualitat/agenda/acte-25n-taller-de-ceramica.html
CLASS:PUBLIC
END:VEVENT
END:VCALENDAR
