BEGIN:VCALENDAR
VERSION:2.0
CALSCALE:GREGORIAN
PRODID:-//Diputació de Barcelona//DibaCMS//EN
BEGIN:VEVENT
UID:2819
DTSTAMP:20260426T043901
DTSTART:20260304T073000
DTEND:20260304T153000
SUMMARY:Sortida de marxa nòrdica a Arenys de Munt
LOCATION:Sortida de l'autocar a l'aparcament de la Cugulera 
METHOD:PUBLISH
X-WR-CALNAME:info@ajsantquirze.cat
X-WR-TIMEZONE:Europe/Madrid
DESCRIPTION:Vine a la segona sortida de la marxa nòrdica de l'any 2026. 

URI:https://www.ajsantquirze.cat/actualitat/agenda/sortida-de-marxa-nordica-a-arenys-de-munt.html
CLASS:PUBLIC
END:VEVENT
END:VCALENDAR
