BEGIN:VCALENDAR
VERSION:2.0
CALSCALE:GREGORIAN
PRODID:-//Diputació de Barcelona//DibaCMS//EN
BEGIN:VEVENT
UID:2816
DTSTAMP:20260426T050019
DTSTART:20260128T093000
DTEND:20260128T153000
SUMMARY:Sortida de marxa nòrdica a Sant Quirze de Besora
LOCATION:Mestre Quer, 20 08580 Sant Quirze de Besora
METHOD:PUBLISH
X-WR-CALNAME:info@ajsantquirze.cat
X-WR-TIMEZONE:Europe/Madrid
DESCRIPTION:Vine a la primera sortida de la marxa nòrdica de l'any 2026. 

URI:https://www.ajsantquirze.cat/actualitat/agenda/sortida-de-marxa-nordica-a-sant-quirze-de-besora.html
CLASS:PUBLIC
END:VEVENT
END:VCALENDAR
