BEGIN:VCALENDAR
VERSION:2.0
CALSCALE:GREGORIAN
PRODID:-//Diputació de Barcelona//DibaCMS//EN
BEGIN:VEVENT
UID:2598
DTSTAMP:20260425T161020
DTSTART:20250623T180000
DTEND:20250623T203000
SUMMARY:Arribada flama canigó 2025
LOCATION:Plaça Bisaura 
METHOD:PUBLISH
X-WR-CALNAME:info@ajsantquirze.cat
X-WR-TIMEZONE:Europe/Madrid
DESCRIPTION:
URI:https://www.ajsantquirze.cat/actualitat/agenda/arribada-flama-canigo-2025.html
CLASS:PUBLIC
END:VEVENT
END:VCALENDAR
