BEGIN:VCALENDAR
VERSION:2.0
CALSCALE:GREGORIAN
PRODID:-//Diputació de Barcelona//DibaCMS//EN
BEGIN:VEVENT
UID:2491
DTSTAMP:20260424T043554
DTSTART:20250531T100000
DTEND:20250531T120000
SUMMARY:Taller sobre les orquídies silvestres (2a sessió) 
LOCATION:Castell de Montesquiu 
METHOD:PUBLISH
X-WR-CALNAME:info@ajsantquirze.cat
X-WR-TIMEZONE:Europe/Madrid
DESCRIPTION:Sortida de camp a la cerca d’orquídies silvestres per conèixer en quins hàbitats viuen i aprendre a identificar-les.

URI:https://www.ajsantquirze.cat/actualitat/agenda/taller-sobre-les-orquidies-silvestres-2a-sessio-.html
CLASS:PUBLIC
END:VEVENT
END:VCALENDAR
