BEGIN:VCALENDAR
VERSION:2.0
CALSCALE:GREGORIAN
PRODID:-//Diputació de Barcelona//DibaCMS//EN
BEGIN:VEVENT
UID:2367
DTSTAMP:20260424T155605
DTSTART:20250125T160000
DTEND:20250125T180000
SUMMARY:Curs de Sardanes!
LOCATION:Carrer de Joan Baptista Espadaler 6 08580 Sant Quirze de Besora
METHOD:PUBLISH
X-WR-CALNAME:info@ajsantquirze.cat
X-WR-TIMEZONE:Europe/Madrid
DESCRIPTION:Propera classe el dissabte 25 de gener a les 16h, al Centre de Dia.

Us esperem! 

URI:https://www.ajsantquirze.cat/actualitat/agenda/2367-curs-de-sardanes.html
CLASS:PUBLIC
END:VEVENT
END:VCALENDAR
