BEGIN:VCALENDAR
VERSION:2.0
CALSCALE:GREGORIAN
PRODID:-//Diputació de Barcelona//DibaCMS//EN
BEGIN:VEVENT
UID:2344
DTSTAMP:20260425T215715
DTSTART:20241225T210000
DTEND:20241226T000000
SUMMARY:Els Pastorets "125 anys"
LOCATION:Patis, 24 08580 Sant Quirze de Besora
METHOD:PUBLISH
X-WR-CALNAME:info@ajsantquirze.cat
X-WR-TIMEZONE:Europe/Madrid
DESCRIPTION:Vine a veure aquestes representacions més que centenàries d'"El Bressol de Jesús" o "Garrofa i Pallanga" de Frederic Soler Serafí Pitarra. 

URI:https://www.ajsantquirze.cat/actualitat/agenda/2344-els-pastorets-125-anys.html
CLASS:PUBLIC
END:VEVENT
END:VCALENDAR
