BEGIN:VCALENDAR
VERSION:2.0
CALSCALE:GREGORIAN
PRODID:-//Diputació de Barcelona//DibaCMS//EN
BEGIN:VEVENT
UID:2077
DTSTAMP:20260422T104659
DTSTART:20240319T110000
DTEND:20240319T140000
SUMMARY: Xerrada "Mantenir una ment activa" de l’Esplai Activa’t
LOCATION:Carrer de Joan Baptista Espadaler 6 08580 Sant Quirze de Besora
METHOD:PUBLISH
X-WR-CALNAME:info@ajsantquirze.cat
X-WR-TIMEZONE:Europe/Madrid
DESCRIPTION:Xerrada: Mantenir una ment activa

URI:https://www.ajsantquirze.cat/actualitat/agenda/-xerrada-mantenir-una-ment-activa-de-lesplai-activat.html
CLASS:PUBLIC
END:VEVENT
END:VCALENDAR
