BEGIN:VCALENDAR
VERSION:2.0
CALSCALE:GREGORIAN
PRODID:-//Diputació de Barcelona//DibaCMS//EN
BEGIN:VEVENT
UID:2050
DTSTAMP:20260422T082314
DTSTART:20240208T173000
DTEND:20240208T220000
SUMMARY:VINE A CELEBRAR EL DIJOUS LLARDER
LOCATION:
METHOD:PUBLISH
X-WR-CALNAME:info@ajsantquirze.cat
X-WR-TIMEZONE:Europe/Madrid
DESCRIPTION:BERENAR/SOPAR típic de la celebració amb música i Quinto.

Preu Socis: 12 €
NO Socis: 15 €
Obert a tothom. Podeu apuntar-vos, no més tard del dia 6 a:
Esplai: tardes de 4 a 7 (93.855.05.76), al whatsapp de difusió o al Grup de whatsapp..
Ajuntament:93.852.90.17.

URI:https://www.ajsantquirze.cat/actualitat/agenda/vine-a-celebrar-el-dijous-llarder.html
CLASS:PUBLIC
END:VEVENT
END:VCALENDAR
