BEGIN:VCALENDAR
VERSION:2.0
CALSCALE:GREGORIAN
PRODID:-//Diputació de Barcelona//DibaCMS//EN
BEGIN:VEVENT
UID:1956
DTSTAMP:20260421T211701
DTSTART:20231102T180000
DTEND:20231102T193000
SUMMARY:Taller “Cuidem la columna. Exercici físic en la prevenció de lesions de columna.” a càrrec de Fisiobisaura" 
LOCATION:
METHOD:PUBLISH
X-WR-CALNAME:info@ajsantquirze.cat
X-WR-TIMEZONE:Europe/Madrid
DESCRIPTION:Dates: 28 de setembre, 5, 19, 27 d’Octubre i 2  de novembre 

Horaris: de 18:00 a 19:30

Lloc: Centre de dia

Cuida la salut de la teva columna vertebral, descobreix els secrets per prevenir lesions i millorar la postura. En aquest taller aprendràs exercicis pràctics i recursos útils per al teu benestar.

URI:https://www.ajsantquirze.cat/actualitat/agenda/taller-cuidem-la-columna-exercici-fisic-en-la-prevencio-de-lesions-de-columna-a-carrec-de-fisiobisaura-.html
CLASS:PUBLIC
END:VEVENT
END:VCALENDAR
