BEGIN:VCALENDAR
VERSION:2.0
CALSCALE:GREGORIAN
PRODID:-//Diputació de Barcelona//DibaCMS//EN
BEGIN:VEVENT
UID:1951
DTSTAMP:20260424T024419
DTSTART:20230917T120000
DTEND:20230917T130000
SUMMARY:Notes a la Cabanya amb ÖLIVIA MUSYC i ROBERT POCH
LOCATION:
METHOD:PUBLISH
X-WR-CALNAME:info@ajsantquirze.cat
X-WR-TIMEZONE:Europe/Madrid
DESCRIPTION:Diumenge, 17 de setembre a les 12 del matí als jardins del Castell de Montesquiu. 

Concert del duo Olivia Müsyk que presentaran les seves darreres novetats musicals. Tindran com a artista convidat al cantautor del Maresme Robert Poch. Aquest espectacle forma part del programa Parcs en concert. 

URI:https://www.ajsantquirze.cat/actualitat/agenda/notes-a-la-cabanya-amb-olivia-musyc-i-robert-poch.html
CLASS:PUBLIC
END:VEVENT
END:VCALENDAR
