BEGIN:VCALENDAR
VERSION:2.0
CALSCALE:GREGORIAN
PRODID:-//Diputació de Barcelona//DibaCMS//EN
BEGIN:VEVENT
UID:1813
DTSTAMP:20260419T204527
DTSTART:20230128T160000
DTEND:20230128T173000
SUMMARY:Concert Moi Romero (església)
LOCATION:
METHOD:PUBLISH
X-WR-CALNAME:info@ajsantquirze.cat
X-WR-TIMEZONE:Europe/Madrid
DESCRIPTION:
URI:https://www.ajsantquirze.cat/actualitat/agenda/concert-moi-romero-esglesia.html
CLASS:PUBLIC
END:VEVENT
END:VCALENDAR
