BEGIN:VCALENDAR
VERSION:2.0
CALSCALE:GREGORIAN
PRODID:-//Diputació de Barcelona//DibaCMS//EN
BEGIN:VEVENT
UID:1633
DTSTAMP:20260419T223808
DTSTART:20211009T103000
DTEND:20211009T130000
SUMMARY:Juguem amb la natura!
LOCATION:Parc del Castell de Montesquiu 08580 Sant Quirze de Besora
METHOD:PUBLISH
X-WR-CALNAME:info@ajsantquirze.cat
X-WR-TIMEZONE:Europe/Madrid
DESCRIPTION:Activitats de tardor del Parc del Castell de Montesquiu. 

URI:https://www.ajsantquirze.cat/actualitat/agenda/1633-juguem-amb-la-natura.html
CLASS:PUBLIC
END:VEVENT
END:VCALENDAR
