BEGIN:VCALENDAR
VERSION:2.0
CALSCALE:GREGORIAN
PRODID:-//Diputació de Barcelona//DibaCMS//EN
BEGIN:VEVENT
UID:1423
DTSTAMP:20260422T131420
DTSTART:20210411T081500
DTEND:20210411T150000
SUMMARY:Rutes marxa nòrdica: Serrat Alt i castell dels Torelló
LOCATION:08580 Sant Quirze de Besora
METHOD:PUBLISH
X-WR-CALNAME:info@ajsantquirze.cat
X-WR-TIMEZONE:Europe/Madrid
DESCRIPTION:Diumenge 11 d'abril
Rutes marxa nòrdica: Serrat Alt i castell dels Torelló
A les 8.15 h (si no s'ha fet marxa nòrdica) i a les 8.45 h (si s'ha fet marxa nòrdica)
Més informació

URI:https://www.ajsantquirze.cat/actualitat/agenda/rutes-marxa-nordica-serrat-alt-i-castell-dels-torello.html
CLASS:PUBLIC
END:VEVENT
END:VCALENDAR
