BEGIN:VCALENDAR
VERSION:2.0
CALSCALE:GREGORIAN
PRODID:-//Diputació de Barcelona//DibaCMS//EN
BEGIN:VEVENT
UID:1129
DTSTAMP:20260425T164350
DTSTART:20200315T100000
DTEND:20200315T190000
SUMMARY:Sortida al Teatre Tívoli (Barcelona) a veure l’espectacle musical d’Antonio Banderas
LOCATION:08580 Sant Quirze de Besora
METHOD:PUBLISH
X-WR-CALNAME:info@ajsantquirze.cat
X-WR-TIMEZONE:Europe/Madrid
DESCRIPTION:DIUMENGE 15 DE MARÇ
Sortida al Teatre Tívoli (Barcelona) a veure l’espectacle musical d’Antonio Banderas

Més informació a l’Esplai.

URI:https://www.ajsantquirze.cat/actualitat/agenda/sortida-al-teatre-tivoli-barcelona-a-veure-lespectacle-musical-dantonio-banderas.html
CLASS:PUBLIC
END:VEVENT
END:VCALENDAR
